BEGIN:VCALENDAR
VERSION:2.0
CALSCALE:GREGORIAN
PRODID:-//WordPress//RSVPMaker//EN
METHOD:REQUEST
BEGIN:VEVENT
DTSTAMP:20260422T004657Z
UID:C667D53ACD899A97A85DE0C201BA99BE@rsvpmaker.com
SEQUENCE:0
STATUS:CONFIRMED
DTSTART:20160806T210000Z
DTEND:20160806T220000Z
LOCATION:See\: https\://www.jeremyjohansen.com/news/rsvpmaker/summer-p
 arty-2016-07-23/
SUMMARY:Summer Party
DESCRIPTION:Event info\: https\://www.jeremyjohansen.com/news/rsvpmake
 r/summer-party-2016-07-23/
END:VEVENT
END:VCALENDAR