BEGIN:VCALENDAR
VERSION:2.0
CALSCALE:GREGORIAN
PRODID:-//WordPress//RSVPMaker//EN
METHOD:REQUEST
BEGIN:VEVENT
DTSTAMP:20260421T215844Z
UID:8FB5F8BE2AA9D6C64A04E3AB9F63FEEE@rsvpmaker.com
SEQUENCE:0
STATUS:CONFIRMED
DTSTART:20231120T030000Z
DTEND:20231120T040000Z
LOCATION:See\: https\://www.jeremyjohansen.com/news/rsvpmaker/the-gran
 d-80th-birthday-party/
SUMMARY:The Grand 80th Birthday Party
DESCRIPTION:Event info\: https\://www.jeremyjohansen.com/news/rsvpmake
 r/the-grand-80th-birthday-party/
END:VEVENT
END:VCALENDAR