BEGIN:VCALENDAR
VERSION:2.0
CALSCALE:GREGORIAN
PRODID:-//WordPress//RSVPMaker//EN
METHOD:REQUEST
BEGIN:VEVENT
DTSTAMP:20260422T023619Z
UID:5E1B18C4C6A6D31695ACBAE3FD70ECC6@rsvpmaker.com
SEQUENCE:0
STATUS:CONFIRMED
DTSTART:20171008T020000Z
DTEND:20171008T030000Z
LOCATION:See\: https\://www.jeremyjohansen.com/news/rsvpmaker/the-joha
 nsen-family-annual-holiday-party-2017-10-07/
SUMMARY:The Johansen Family Annual Holiday Party
DESCRIPTION:Event info\: https\://www.jeremyjohansen.com/news/rsvpmake
 r/the-johansen-family-annual-holiday-party-2017-10-07/
END:VEVENT
END:VCALENDAR